BEGIN:VCALENDAR
VERSION:2.0
PRODID:-//Trocaire College - ECPv6.15.20//NONSGML v1.0//EN
CALSCALE:GREGORIAN
METHOD:PUBLISH
X-WR-CALNAME:Trocaire College
X-ORIGINAL-URL:https://trocaire.edu
X-WR-CALDESC:Events for Trocaire College
REFRESH-INTERVAL;VALUE=DURATION:PT1H
X-Robots-Tag:noindex
X-PUBLISHED-TTL:PT1H
BEGIN:VTIMEZONE
TZID:America/New_York
BEGIN:DAYLIGHT
TZOFFSETFROM:-0500
TZOFFSETTO:-0400
TZNAME:EDT
DTSTART:20240310T070000
END:DAYLIGHT
BEGIN:STANDARD
TZOFFSETFROM:-0400
TZOFFSETTO:-0500
TZNAME:EST
DTSTART:20241103T060000
END:STANDARD
BEGIN:DAYLIGHT
TZOFFSETFROM:-0500
TZOFFSETTO:-0400
TZNAME:EDT
DTSTART:20250309T070000
END:DAYLIGHT
BEGIN:STANDARD
TZOFFSETFROM:-0400
TZOFFSETTO:-0500
TZNAME:EST
DTSTART:20251102T060000
END:STANDARD
BEGIN:DAYLIGHT
TZOFFSETFROM:-0500
TZOFFSETTO:-0400
TZNAME:EDT
DTSTART:20260308T070000
END:DAYLIGHT
BEGIN:STANDARD
TZOFFSETFROM:-0400
TZOFFSETTO:-0500
TZNAME:EST
DTSTART:20261101T060000
END:STANDARD
END:VTIMEZONE
BEGIN:VEVENT
DTSTART;TZID=America/New_York:20251028T140000
DTEND;TZID=America/New_York:20251028T150000
DTSTAMP:20260419T105952
CREATED:20251017T151308Z
LAST-MODIFIED:20251021T141223Z
UID:10000843-1761660000-1761663600@trocaire.edu
SUMMARY:Trocaire’s Career Vitals Forum: Your Pulse on Healthcare Careers
DESCRIPTION:Join us for an interactive\, one-hour virtual series where WNY-based healthcare HR leaders share real-world insights on healthcare work; Andrea Kirsch (Horizon)\, Chrissy Jacobi (Excelsior Orthopaedics)\, and Laura Roberts (General Physicians Group). Sign-ups are open now for students\, alumni\, and professionals looking to strengthen their healthcare career path. \n\n\n\n\n\n\n                \n                        \n                            Trocaire’s Career Vitals Forum: Your Pulse on Healthcare Careers\n                             \n							"*" indicates required fields \n                        \n                        CompanyThis field is for validation purposes and should be left unchanged.First Name*Last Name*Email*Phone*Street Address*Address Line 2City*State*AlabamaAlaskaAmerican SamoaArizonaArkansasCaliforniaColoradoConnecticutDelawareDistrict of ColumbiaFloridaGeorgiaGuamHawaiiIdahoIllinoisIndianaIowaKansasKentuckyLouisianaMaineMarylandMassachusettsMichiganMinnesotaMississippiMissouriMontanaNebraskaNevadaNew HampshireNew JerseyNew MexicoNew YorkNorth CarolinaNorth DakotaNorthern Mariana IslandsOhioOklahomaOregonPennsylvaniaPuerto RicoRhode IslandSouth CarolinaSouth DakotaTennesseeTexasUtahU.S. Virgin IslandsVermontVirginiaWashingtonWest VirginiaWisconsinWyomingArmed Forces AmericasArmed Forces EuropeArmed Forces PacificZip Code*CAPTCHA
URL:https://trocaire.edu/event/trocaires-career-vitals-forum-your-pulse-on-healthcare-careers/
CATEGORIES:Academic Calendar,General Events,Trocaire Community Events
ATTACH;FMTTYPE=image/jpeg:https://trocaire.edu/wp-content/uploads/2025/10/AdobeStock_539146188_HC_Event.jpg
LOCATION:https://trocaire.edu/event/trocaires-career-vitals-forum-your-pulse-on-healthcare-careers/
END:VEVENT
END:VCALENDAR