BEGIN:VCALENDAR
VERSION:2.0
PRODID:-//Trocaire College - ECPv6.15.20//NONSGML v1.0//EN
CALSCALE:GREGORIAN
METHOD:PUBLISH
X-WR-CALNAME:Trocaire College
X-ORIGINAL-URL:https://trocaire.edu
X-WR-CALDESC:Events for Trocaire College
REFRESH-INTERVAL;VALUE=DURATION:PT1H
X-Robots-Tag:noindex
X-PUBLISHED-TTL:PT1H
BEGIN:VTIMEZONE
TZID:America/New_York
BEGIN:DAYLIGHT
TZOFFSETFROM:-0500
TZOFFSETTO:-0400
TZNAME:EDT
DTSTART:20200308T070000
END:DAYLIGHT
BEGIN:STANDARD
TZOFFSETFROM:-0400
TZOFFSETTO:-0500
TZNAME:EST
DTSTART:20201101T060000
END:STANDARD
BEGIN:DAYLIGHT
TZOFFSETFROM:-0500
TZOFFSETTO:-0400
TZNAME:EDT
DTSTART:20210314T070000
END:DAYLIGHT
BEGIN:STANDARD
TZOFFSETFROM:-0400
TZOFFSETTO:-0500
TZNAME:EST
DTSTART:20211107T060000
END:STANDARD
BEGIN:DAYLIGHT
TZOFFSETFROM:-0500
TZOFFSETTO:-0400
TZNAME:EDT
DTSTART:20220313T070000
END:DAYLIGHT
BEGIN:STANDARD
TZOFFSETFROM:-0400
TZOFFSETTO:-0500
TZNAME:EST
DTSTART:20221106T060000
END:STANDARD
END:VTIMEZONE
BEGIN:VEVENT
DTSTART;TZID=America/New_York:20210215T130000
DTEND;TZID=America/New_York:20210215T140000
DTSTAMP:20260423T084551
CREATED:20210130T012646Z
LAST-MODIFIED:20210130T012646Z
UID:10000422-1613394000-1613397600@trocaire.edu
SUMMARY:High School to Healthcare Virtual Info Session
DESCRIPTION:Join Trocaire College Admissions for our Virtual Info Session: \nHigh School to Healthcare\n \n  \n  \n  \n  \n  \n  \n  \n  \n  \n  \n  \nHigh school students interested in a career in healthcare –  join us to learn about the many options available at Trocaire College! Our certificate\, associate and bachelor degree programs will help you on the path to an exciting career in  the healthcare field. Learn about career opportunities\, available scholarships and our student success stories.\n High School Students\nFebruary 15 | 1 -2 pm \nJoin Zoom link: https://trocaire.zoom.us/j/95245195516 \nMeeting ID: 952 4519 5516 \nHealthcare Programs at Trocaire College \n\n\n\n\n\nDiagnostic Medical Sonography\nEchocardiography\nHealthcare Informatics\nMassage Therapy\n\n\n\n\nMedical Assistant\nNursing (LPN\, RN\, BSN)\nRadiologic Technology\nSurgical Technology\n\n\n\n\n\nRegister Today! \nOops! We could not locate your form.
URL:https://trocaire.edu/event/healthcare-info-session-for-high-school-students/
CATEGORIES:Admissions Events
ATTACH;FMTTYPE=image/png:https://trocaire.edu/wp-content/uploads/2021/09/High-School-to-Healthcare.png
END:VEVENT
BEGIN:VEVENT
DTSTART;TZID=America/New_York:20210215T000000
DTEND;TZID=America/New_York:20210220T235900
DTSTAMP:20260423T084551
CREATED:20210104T221800Z
LAST-MODIFIED:20210104T221800Z
UID:10000423-1613347200-1613865540@trocaire.edu
SUMMARY:Random Acts of Kindness Week
DESCRIPTION:Student Life brings you Random Acts of Kindness Week. We are proud of our Trocairians and their kindness – in the classroom\, remote learning\, clinical\, workplace\, and in their lives. \nJoin us as we participate in Random Acts of Kindness or “RAK” Week at Trocaire!
URL:https://trocaire.edu/event/random-acts-of-kindness-week/
CATEGORIES:Student Events
END:VEVENT
BEGIN:VEVENT
DTSTART;TZID=America/New_York:20210211T180000
DTEND;TZID=America/New_York:20210211T200000
DTSTAMP:20260423T084551
CREATED:20210204T015100Z
LAST-MODIFIED:20210204T015100Z
UID:10000424-1613066400-1613073600@trocaire.edu
SUMMARY:Progressing and Professionalism in the Nursing Field
DESCRIPTION:The Infinity Club\, The Office of Student Engagement\, and The Pathways to Nursing Success Program have brought together a panel of leading nurses in the field. These nurses are current members of the local Buffalo chapter of Black Nurses Rock. \nDuring this interactive panel\, they are going to discuss their passion for being a nurse\, their motivation for doing work in the community\, and their involvement in Black Nurses Rock. The panel consists of nurses from varying levels of the profession from\, LPN to ANP-BC. \nIf you are looking for ways to take your career to the next level or find out ways to get more involved in the nursing profession\, then you do not want to miss this event. \nWhen: Thursday\, February 11 \nTime: 6 PM – 8 PM \nLocation: Zoom | Meeting ID: 833 63 0174 | Passcode: Pathways \n  \nThis event is part of our Black History Month Celebration at Trocaire College. Participants are able to count this opportunity as part of their supplemental participation section of the Cultural Competency Certificate Program (C3).
URL:https://trocaire.edu/event/progressing-and-professionalism-in-the-nursing-field/
CATEGORIES:Student Events
ATTACH;FMTTYPE=image/jpeg:https://trocaire.edu/wp-content/uploads/2021/09/BHM-panels-2.jpg
END:VEVENT
BEGIN:VEVENT
DTSTART;TZID=America/New_York:20210204T110000
DTEND;TZID=America/New_York:20210204T120000
DTSTAMP:20260423T084551
CREATED:20210127T223100Z
LAST-MODIFIED:20210127T223100Z
UID:10000425-1612436400-1612440000@trocaire.edu
SUMMARY:Wellness Committee Meeting
DESCRIPTION:All students and employees are welcome to join the Wellness Committee for their first meeting this semester! \nWhen: Thursday\, February 4 at 11 AM on Zoom \nJoin the Zoom below: \nhttps://tinyurl.com/WellnessAtTrocaire
URL:https://trocaire.edu/event/wellness-committee-meeting/
CATEGORIES:Student Events
END:VEVENT
BEGIN:VEVENT
DTSTART;TZID=America/New_York:20210201T000000
DTEND;TZID=America/New_York:20210201T235900
DTSTAMP:20260423T084551
CREATED:20210104T221700Z
LAST-MODIFIED:20210104T221700Z
UID:10000427-1612137600-1612223940@trocaire.edu
SUMMARY:Black History Month Opening Celebration
DESCRIPTION:Save the date as we celebrate the opening of our Black History Month programming at Trocaire College! \nMore details to follow.
URL:https://trocaire.edu/event/black-history-month-opening-celebration/
CATEGORIES:Student Events
END:VEVENT
BEGIN:VEVENT
DTSTART;TZID=America/New_York:20210201T000000
DTEND;TZID=America/New_York:20210201T235900
DTSTAMP:20260423T084551
CREATED:20200309T174311Z
LAST-MODIFIED:20200309T174311Z
UID:10000426-1612137600-1612223940@trocaire.edu
SUMMARY:Last Day to Drop/Add
DESCRIPTION:
URL:https://trocaire.edu/event/last-day-to-drop-add-6/
CATEGORIES:Academic Calendar
END:VEVENT
BEGIN:VEVENT
DTSTART;TZID=America/New_York:20210129T190000
DTEND;TZID=America/New_York:20210129T200000
DTSTAMP:20260423T084551
CREATED:20210125T193200Z
LAST-MODIFIED:20210125T193200Z
UID:10000428-1611946800-1611950400@trocaire.edu
SUMMARY:Winter Welcome Week: Friday Night Lights with Student Life
DESCRIPTION:Student Life is excited for you to join us for another great semester! During Friday Night Lights – we want to hear from YOU. \nOn Friday\, January 29 from 7 PM to 8 PM\, join Student Life on Zoom for a fun night of Trocaire Trivia and answering questions you may have for the semester.  The Zoom invite will be sent upon RSVP. \nSign up on the Student Activities webpage today. \n 
URL:https://trocaire.edu/event/winter-welcome-week-friday-night-lights-with-student-life/
CATEGORIES:Student Events
END:VEVENT
BEGIN:VEVENT
DTSTART;TZID=America/New_York:20210127T140000
DTEND;TZID=America/New_York:20210127T150000
DTSTAMP:20260423T084551
CREATED:20210126T005500Z
LAST-MODIFIED:20210126T005500Z
UID:10000429-1611756000-1611759600@trocaire.edu
SUMMARY:iVIP & Crisis Services Stalking\, Cybervictimization\, and Technology Safety Presentation
DESCRIPTION:In the age of technology\, especially during COVID-19 when many of us rely on technology for school\, work\, or to connect with loved ones\, it is important to be aware of the ways people may use technology to harm others\, and the ways that we can protect ourselves against potential dangers posed online. \niVIP webcam covers and notebooks will be offered as tools to help combat cyberstalking! \nIf you have any questions related to this presentation or regarding iVIP programming\, please contact: \nJennifer Elliott\, iVIP Coordinator \n716.827.2543 \niVIPcoordinator@trocaire.edu \nZoom Information: Zoom Meeting Link \nMeeting ID: 980 7865 5459 \nPasscode: iVIP
URL:https://trocaire.edu/event/ivip-crisis-services-stalking-cybervictimization-and-technology-safety-presentation/
CATEGORIES:General Events,Student Events
END:VEVENT
BEGIN:VEVENT
DTSTART;TZID=America/New_York:20210125T000000
DTEND;TZID=America/New_York:20210130T235900
DTSTAMP:20260423T084551
CREATED:20210104T221400Z
LAST-MODIFIED:20210104T221400Z
UID:10000432-1611532800-1612051140@trocaire.edu
SUMMARY:Welcome Week
DESCRIPTION:Student Life is excited to welcome its students back for the Spring 2021 semester! \nStay tuned and check your This Week at Trocaire email for updates on the events happening the first week of classes. \nVisit the Student Activities page closer to this week for more details!
URL:https://trocaire.edu/event/welcome-week/
CATEGORIES:Featured,Student Events
END:VEVENT
BEGIN:VEVENT
DTSTART;TZID=America/New_York:20210125T000000
DTEND;TZID=America/New_York:20210125T235900
DTSTAMP:20260423T084551
CREATED:20200309T174227Z
LAST-MODIFIED:20200309T174227Z
UID:10000430-1611532800-1611619140@trocaire.edu
SUMMARY:Spring 2021 Classes Begin
DESCRIPTION:
URL:https://trocaire.edu/event/spring-2021-classes-begin/
CATEGORIES:Academic Calendar,Featured
END:VEVENT
BEGIN:VEVENT
DTSTART;TZID=America/New_York:20210118T000000
DTEND;TZID=America/New_York:20210118T235900
DTSTAMP:20260423T084551
CREATED:20200309T174135Z
LAST-MODIFIED:20200309T174135Z
UID:10000570-1610928000-1611014340@trocaire.edu
SUMMARY:MARTIN LUTHER KING\, JR. DAY - COLLEGE CLOSED
DESCRIPTION:
URL:https://trocaire.edu/event/martin-luther-king-jr-day-college-closed-4/
CATEGORIES:Academic Calendar,Featured
END:VEVENT
BEGIN:VEVENT
DTSTART;TZID=America/New_York:20210107T180000
DTEND;TZID=America/New_York:20210107T190000
DTSTAMP:20260423T084551
CREATED:20210108T034219Z
LAST-MODIFIED:20210108T034219Z
UID:10000573-1610042400-1610046000@trocaire.edu
SUMMARY:Bachelor's in Healthcare Management Virtual Information Night - Revision - Revision
DESCRIPTION:Bachelor’s of Professional Studies in Healthcare Management\nVirtual Information Night – January 7\, 6-7 PM\n \nJoin us on January 7 for a Virtual Info Session featuring our new online BPS in Healthcare Management program. For those looking for the next step in their career\, this online program is a fast way to taking the credits you have already completed and applying them directly toward completing a bachelor’s degree\, often times in as little as 12 months! \n Leadership careers in Medical and Health Services Management are rapidly growing across the country and right here in WNY. As a result\, the demand for qualified and dedicated employees is at an all-time high. \nAccording to the Bureau of Labor and Statistics\, the median salary for individuals in Medical and Service Manager occupations was $99\,730 in 2018 and is projected to increase. Students can start classes as early as this fall! \nLogin Information For Info Session\nTopic: Healthcare Management BPS Virtual Info Session\nTime: Jan 7\, 2021 06:00 PM Eastern Time (US and Canada) \nJoin Zoom Meeting\nhttps://trocaire.zoom.us/j/94303540598 \nMeeting ID: 943 0354 0598 \nRSVP for our Virtual Info Night below:\nOops! We could not locate your form.
URL:https://trocaire.edu/event/bachelors-in-healthcare-management-virtual-information-night-revision-revision/
CATEGORIES:Admissions Events,Featured
ATTACH;FMTTYPE=image/jpeg:https://trocaire.edu/wp-content/uploads/2021/09/Nurse-image.jpeg
END:VEVENT
BEGIN:VEVENT
DTSTART;TZID=America/New_York:20210107T180000
DTEND;TZID=America/New_York:20210107T190000
DTSTAMP:20260423T084551
CREATED:20210107T012419Z
LAST-MODIFIED:20210107T012419Z
UID:10000572-1610042400-1610046000@trocaire.edu
SUMMARY:Bachelor's in Healthcare Management Virtual Information Night - Revision
DESCRIPTION:Bachelor’s of Professional Studies in Healthcare Management\nVirtual Information Night – January 7\, 6-7 PM\n \nJoin us on January 7 for a Virtual Info Session featuring our new online BPS in Healthcare Management program. For those looking for the next step in their career\, this online program is a fast way to taking the credits you have already completed and applying them directly toward completing a bachelor’s degree\, often times in as little as 12 months! \n Leadership careers in Medical and Health Services Management are rapidly growing across the country and right here in WNY. As a result\, the demand for qualified and dedicated employees is at an all-time high. \nAccording to the Bureau of Labor and Statistics\, the median salary for individuals in Medical and Service Manager occupations was $99\,730 in 2018 and is projected to increase. Students can start classes as early as this fall! \nLogin Information For Info Session\nTopic: Healthcare Management BPS Virtual Info Session\nTime: Jan 7\, 2021 06:00 PM Eastern Time (US and Canada) \nJoin Zoom Meeting\nhttps://trocaire.zoom.us/j/94303540598 \nMeeting ID: 943 0354 0598 \nRSVP for our Virtual Info Night below:\nOops! We could not locate your form.
URL:https://trocaire.edu/event/bachelors-in-healthcare-management-virtual-information-night-revision/
CATEGORIES:Admissions Events,Featured
ATTACH;FMTTYPE=image/jpeg:https://trocaire.edu/wp-content/uploads/2021/09/Nurse-image.jpeg
END:VEVENT
BEGIN:VEVENT
DTSTART;TZID=America/New_York:20210107T180000
DTEND;TZID=America/New_York:20210107T190000
DTSTAMP:20260423T084551
CREATED:20201219T011330Z
LAST-MODIFIED:20201219T011330Z
UID:10000571-1610042400-1610046000@trocaire.edu
SUMMARY:Bachelor's in Healthcare Management Virtual Information Night
DESCRIPTION:Bachelor’s of Professional Studies in Healthcare Management\nVirtual Information Night – January 7\, 6-7 PM\n \nJoin us on January 7 for a Virtual Info Session featuring our new online BPS in Healthcare Management program. For those looking for the next step in their career\, this online program is a fast way to taking the credits you have already completed and applying them directly toward completing a bachelor’s degree\, often times in as little as 12 months! \n Leadership careers in Medical and Health Services Management are rapidly growing across the country and right here in WNY. As a result\, the demand for qualified and dedicated employees is at an all-time high. \nAccording to the Bureau of Labor and Statistics\, the median salary for individuals in Medical and Service Manager occupations was $99\,730 in 2018 and is projected to increase. \n\nLogin Information For Info Session\nClick on the following Zoom Meeting web link to access the presentation: \nhttps://trocaire.zoom.us/j/94303540598  \nMeeting ID: 943 0354 0598 \nRSVP for our Virtual Info Night below:\nOops! We could not locate your form.
URL:https://trocaire.edu/event/bachelors-in-healthcare-management-virtual-information-night-2/
CATEGORIES:Admissions Events,Featured
ATTACH;FMTTYPE=image/jpeg:https://trocaire.edu/wp-content/uploads/2021/09/Nurse-image.jpeg
END:VEVENT
END:VCALENDAR