BEGIN:VCALENDAR
VERSION:2.0
PRODID:-//Trocaire College - ECPv6.15.20//NONSGML v1.0//EN
CALSCALE:GREGORIAN
METHOD:PUBLISH
X-WR-CALNAME:Trocaire College
X-ORIGINAL-URL:https://trocaire.edu
X-WR-CALDESC:Events for Trocaire College
REFRESH-INTERVAL;VALUE=DURATION:PT1H
X-Robots-Tag:noindex
X-PUBLISHED-TTL:PT1H
BEGIN:VTIMEZONE
TZID:America/New_York
BEGIN:DAYLIGHT
TZOFFSETFROM:-0500
TZOFFSETTO:-0400
TZNAME:EDT
DTSTART:20200308T070000
END:DAYLIGHT
BEGIN:STANDARD
TZOFFSETFROM:-0400
TZOFFSETTO:-0500
TZNAME:EST
DTSTART:20201101T060000
END:STANDARD
BEGIN:DAYLIGHT
TZOFFSETFROM:-0500
TZOFFSETTO:-0400
TZNAME:EDT
DTSTART:20210314T070000
END:DAYLIGHT
BEGIN:STANDARD
TZOFFSETFROM:-0400
TZOFFSETTO:-0500
TZNAME:EST
DTSTART:20211107T060000
END:STANDARD
BEGIN:DAYLIGHT
TZOFFSETFROM:-0500
TZOFFSETTO:-0400
TZNAME:EDT
DTSTART:20220313T070000
END:DAYLIGHT
BEGIN:STANDARD
TZOFFSETFROM:-0400
TZOFFSETTO:-0500
TZNAME:EST
DTSTART:20221106T060000
END:STANDARD
END:VTIMEZONE
BEGIN:VEVENT
DTSTART;TZID=America/New_York:20210429T190000
DTEND;TZID=America/New_York:20210429T200000
DTSTAMP:20260419T110623
CREATED:20210324T210506Z
LAST-MODIFIED:20210324T210506Z
UID:10000403-1619722800-1619726400@trocaire.edu
SUMMARY:Spring Soiree 2021
DESCRIPTION:Learn more and buy tickets here!
URL:https://trocaire.edu/event/spring-soiree-2021/
CATEGORIES:Featured,General Events
ATTACH;FMTTYPE=image/jpeg:https://trocaire.edu/wp-content/uploads/2021/09/Spring-Soiree-for-the-website.jpg
END:VEVENT
BEGIN:VEVENT
DTSTART;TZID=America/New_York:20210426T100000
DTEND;TZID=America/New_York:20210426T170000
DTSTAMP:20260419T110623
CREATED:20210423T001623Z
LAST-MODIFIED:20210423T001623Z
UID:10000404-1619431200-1619456400@trocaire.edu
SUMMARY:iVIP Sexual Assault Awareness Month - Teal Tuesday & iVIP Bag
DESCRIPTION:Join the Interpersonal Violence Intervention & Prevention (iVIP) Program as it hosts events for Sexual Assault Awareness Month. \nOn Monday\, April 26 from 10 AM to 5 PM stop by the iVIP office located in Room 129 (by the Commons) to receive a teal ribbon along with iVIP merchandise for Teal Tuesday!
URL:https://trocaire.edu/event/ivip-sexual-assault-awareness-month-teal-tuesday-ivip-bag/
CATEGORIES:Student Events
END:VEVENT
BEGIN:VEVENT
DTSTART;TZID=America/New_York:20210422T180000
DTEND;TZID=America/New_York:20210422T200000
DTSTAMP:20260419T110623
CREATED:20210128T014434Z
LAST-MODIFIED:20210902T175935Z
UID:10000406-1619114400-1619121600@trocaire.edu
SUMMARY:Virtual Spring Open House
DESCRIPTION:Visit us virtually this spring!\nJoin us from the comfort of your own home and get to know Trocaire. Hear about the programs that interest you\, talk to our students and faculty\, meet with admissions and financial aid\, and take a virtual tour.  \n\nACCESS THE OPEN HOUSE SESSIONS AT https://staging.trocaire.edu/virtual-open-house/\nVirtual Spring Open House\nApril 22 | 6pm\nPrograms at Trocaire College \n\n\n\n\n\n\n 	Cybersecurity\n 	Data Analytics\n 	Diagnostic Medical Sonography\n 	Echocardiography\n 	General Studies\n 	Healthcare Informatics\n\n\n\n\n 	Healthcare Management (Bachelor’s)\n 	Massage Therapy *New\, shorter format*\n 	Medical Assistant\n 	Nursing (LPN\, RN\, BSN)\n 	Radiologic Technology\n 	Surgical Technology\n\n\n\n\n\nZoom Login Information \n\n\n                \n                        \n                            Imaging Programs (RT\, DMS\, ECHO) Information Session\n                             \n							"*" indicates required fields \n                        \n                        PhoneThis field is for validation purposes and should be left unchanged.Name*\n                            \n                            \n                                                    \n                                                    First\n                                                \n                            \n                            \n                                                    \n                                                    Last\n                                                \n                            \n                        Email*\n                            \n                        Phone*Address*    \n                    \n                         \n                                        \n                                        Street Address\n                                    \n                                        \n                                        Address Line 2\n                                    \n                                    \n                                    City\n                                 \n                                        AlabamaAlaskaAmerican SamoaArizonaArkansasCaliforniaColoradoConnecticutDelawareDistrict of ColumbiaFloridaGeorgiaGuamHawaiiIdahoIllinoisIndianaIowaKansasKentuckyLouisianaMaineMarylandMassachusettsMichiganMinnesotaMississippiMissouriMontanaNebraskaNevadaNew HampshireNew JerseyNew MexicoNew YorkNorth CarolinaNorth DakotaNorthern Mariana IslandsOhioOklahomaOregonPennsylvaniaPuerto RicoRhode IslandSouth CarolinaSouth DakotaTennesseeTexasUtahU.S. Virgin IslandsVermontVirginiaWashingtonWest VirginiaWisconsinWyomingArmed Forces AmericasArmed Forces EuropeArmed Forces Pacific\n                                        State\n                                      \n                                    \n                                    ZIP Code\n                                \n                    \n                Student Type*Choose one below:First Time Freshman - High School StudentFirst Time Freshman - Adult StudentTransfer StudentSelect an event*Thursday\, May 8th 2025Select a session*Choose one belowRadiological Technology / 4 PM - 5PMDiagnostic Medical Sonography & Echocardiography / 5 PM - 6 PMBoth Sessions / 4 PM - 6 PMSelect program you are interested in:*Choose one below:Radiologic TechnologyDiagnostic Medical SonographyEchocardiographyUndecidedHow did you hear about the event?Choose one below:BillboardRadioTelevisionFriend/FamilyGoogle or Web SearchGoogle AdFacebookInstagramTwitterEmail from Admissions TeamPhone Call from Admissions TeamOtherQuestions or comments about the event:CAPTCHA
URL:https://trocaire.edu/event/spring-open-house-2/
CATEGORIES:Admissions Events,Featured
END:VEVENT
BEGIN:VEVENT
DTSTART;TZID=America/New_York:20210420T173000
DTEND;TZID=America/New_York:20210420T193000
DTSTAMP:20260419T110623
CREATED:20210405T170435Z
LAST-MODIFIED:20210405T170435Z
UID:10000407-1618939800-1618947000@trocaire.edu
SUMMARY:Inclusion Matters: Intimate Partner Violence in the LGBTQ+ Community
DESCRIPTION:Intimate Partner Violence (IPV) inpacts all communities. As healthcare professionals\, many of us work with and will come in contact with folks who have experienced IPV. \nJoin Taje Keanu\, Community Advocate\, and Jennifer Elliott\, iVIP’s Program Coordinator\, for a presentation regarding IPV in the LGBTQ+ community. \nZoom Meeting ID: 969 5817 2647 \nPasscode: iVIP \n 
URL:https://trocaire.edu/event/inclusion-matters-intimate-partner-violence-in-the-lgbtq-community/
CATEGORIES:Student Events
END:VEVENT
BEGIN:VEVENT
DTSTART;TZID=America/New_York:20210420T140000
DTEND;TZID=America/New_York:20210420T150000
DTSTAMP:20260419T110623
CREATED:20210405T183906Z
LAST-MODIFIED:20210405T183906Z
UID:10000408-1618927200-1618930800@trocaire.edu
SUMMARY:Virtual Wellness Fair
DESCRIPTION:Trocaire College Wellness Committee invites you… to the Virtual Wellness Fair on Tuesday\, April 20 from 2 to 3pm on Zoom. Join the Trocaire Wellness Committee for informative presentations on health insurance\, financial wellness\, mental healthCOVID-19 and vaccinations. \nJoin us on Zoom: tinyurl.com/TrocaireVirtualWellnessFair \nMeeting ID: 96521521946 \nPasscode: 094190
URL:https://trocaire.edu/event/virtual-wellness-fair/
CATEGORIES:General Events,Student Events
ATTACH;FMTTYPE=image/jpeg:https://trocaire.edu/wp-content/uploads/2021/09/Wellness-Fair.jpg
END:VEVENT
BEGIN:VEVENT
DTSTART;TZID=America/New_York:20210420T100000
DTEND;TZID=America/New_York:20210420T130000
DTSTAMP:20260419T110623
CREATED:20210418T232317Z
LAST-MODIFIED:20210418T232317Z
UID:10000409-1618912800-1618923600@trocaire.edu
SUMMARY:Employer Visit: Absolut Care
DESCRIPTION:RN Graduates and RN Students are invited to join  at Trocaire College in the Choate Commons from 10 a.m. to 1 p.m. for a career fair. \nAbsolut Care is proud to offer: \n\nWeekly Paychecks\nFull & Part-Time Positions\nDay\, Evening & Night Shifts\nCareer Advancement Opportunities\n\nContact them at www.absolutcare.com \nBring copies of your resume with you. \nCareer Services is available to assist you with your career preparation needs! Contact them at CareerServices@trocaire.edu or call 716.827.2444.
URL:https://trocaire.edu/event/employer-visit-absolut-care/
CATEGORIES:Student Events
ATTACH;FMTTYPE=image/jpeg:https://trocaire.edu/wp-content/uploads/2021/09/Screen-Shot-2021-04-17-at-5.48.22-PM.jpg
END:VEVENT
BEGIN:VEVENT
DTSTART;TZID=America/New_York:20210412T000000
DTEND;TZID=America/New_York:20210412T235900
DTSTAMP:20260419T110623
CREATED:20200807T162003Z
LAST-MODIFIED:20200807T162003Z
UID:10000533-1618185600-1618271940@trocaire.edu
SUMMARY:Registration Opens for New Students
DESCRIPTION:
URL:https://trocaire.edu/event/registration-opens-for-new-students-2/
CATEGORIES:Academic Calendar
END:VEVENT
BEGIN:VEVENT
DTSTART;TZID=America/New_York:20210409T180000
DTEND;TZID=America/New_York:20210409T190000
DTSTAMP:20260419T110623
CREATED:20210304T052849Z
LAST-MODIFIED:20210304T052849Z
UID:10000537-1617991200-1617994800@trocaire.edu
SUMMARY:Fridays with Student Life
DESCRIPTION:Take a breather and join Student Life for First Friday! This hour-long Zoom allows our team to connect with you. Join us as we check-in and play a round of trivia. There will be giveaways for the trivia! \nWhen: Friday\, April 9 \nTime: 6-7 PM \nWhere: Zoom \nClick HERE to Register for First Fridays with Student Life. Once students register\, they will be provided with a link to the Zoom meeting.
URL:https://trocaire.edu/event/fridays-with-student-life/
CATEGORIES:Student Events
END:VEVENT
BEGIN:VEVENT
DTSTART;TZID=America/New_York:20210409T000000
DTEND;TZID=America/New_York:20210409T235900
DTSTAMP:20260419T110623
CREATED:20200309T174640Z
LAST-MODIFIED:20200309T174640Z
UID:10000539-1617926400-1618012740@trocaire.edu
SUMMARY:Last Day to Withdraw
DESCRIPTION:
URL:https://trocaire.edu/event/last-day-to-withdraw-2/
CATEGORIES:Academic Calendar
END:VEVENT
BEGIN:VEVENT
DTSTART;TZID=America/New_York:20210407T110000
DTEND;TZID=America/New_York:20210407T120000
DTSTAMP:20260419T110623
CREATED:20210405T165805Z
LAST-MODIFIED:20210405T165805Z
UID:10000540-1617793200-1617796800@trocaire.edu
SUMMARY:TRiO Workshop: Financial Literacy & Career Preparedness
DESCRIPTION:Join TRiO as we partner up  with Financial Aid and Career Services for a special presentation on Financial Literacy and Career Preparedness. This one-hour session will give you the time to learn how to achieve a healthy financial life and how to prepare for a career path you’ve been dreaming to reach! \nZoom Meeting ID: 975 1612 9345 \nPasscode: TRiO \nThis meeting will be recorded and available for students who may not be available during this time
URL:https://trocaire.edu/event/trio-workshop-financial-literacy-career-preparedness/
CATEGORIES:Student Events
END:VEVENT
BEGIN:VEVENT
DTSTART;TZID=America/New_York:20210405T000000
DTEND;TZID=America/New_York:20210408T235900
DTSTAMP:20260419T110623
CREATED:20201222T214229Z
LAST-MODIFIED:20201222T214229Z
UID:10000541-1617580800-1617926340@trocaire.edu
SUMMARY:Spring Break (April 5-8)- No Classes
DESCRIPTION:
URL:https://trocaire.edu/event/spring-break-april-5-8-no-classes/
CATEGORIES:Academic Calendar,Featured
END:VEVENT
BEGIN:VEVENT
DTSTART;TZID=America/New_York:20210402T000000
DTEND;TZID=America/New_York:20210404T235900
DTSTAMP:20260419T110623
CREATED:20200309T174558Z
LAST-MODIFIED:20200309T174558Z
UID:10000543-1617321600-1617580740@trocaire.edu
SUMMARY:Easter - No Classes - College Closed
DESCRIPTION:
URL:https://trocaire.edu/event/easter-no-classes-college-closed/
CATEGORIES:Academic Calendar,Featured
END:VEVENT
BEGIN:VEVENT
DTSTART;TZID=America/New_York:20210329T000000
DTEND;TZID=America/New_York:20210329T235900
DTSTAMP:20260419T110623
CREATED:20200807T161911Z
LAST-MODIFIED:20200807T161911Z
UID:10000412-1616976000-1617062340@trocaire.edu
SUMMARY:Registration Opens for Continuing Students
DESCRIPTION:
URL:https://trocaire.edu/event/registration-opens-for-continuing-students-2/
CATEGORIES:Academic Calendar
END:VEVENT
BEGIN:VEVENT
DTSTART;TZID=America/New_York:20210324T180000
DTEND;TZID=America/New_York:20210324T190000
DTSTAMP:20260419T110623
CREATED:20210302T230658Z
LAST-MODIFIED:20210302T230658Z
UID:10000413-1616608800-1616612400@trocaire.edu
SUMMARY:You CAN Start a Career in a high-demand IT field: Trocaire Technology Virtual Info Night
DESCRIPTION:YOU can get a new career in IT! We can help you start in high-demand IT fields at Trocaire College – March 24\, 6-7 PM\n \nJoin us on March 24th for a Virtual Info Session discussing Trocaire’s programs in Cybersecurity\, Data Analytics and Healthcare Informatics. Learn more about these exciting career opportunities\, as well as class schedule and content overview.  \nCareers in both Cybersecurity\, Data Analytics are rapidly growing across the country and right here in WNY. The demand for qualified employees is at an all-time high. According to the Bureau of Labor and Statistics\, the median salary for individuals in Cybersecurity $95\,000+ and in Data Analytics is $80\,000+. So there has never been a better time to get into these careers!\n \nLogin Information For Info Session: \nJoin Zoom Meeting: https://trocaire.zoom.us/j/92267088842  \nMeeting ID: 922 6708 8842 \nRSVP for our Virtual Info Night below:\nOops! We could not locate your form.
URL:https://trocaire.edu/event/you-can-start-a-career-in-a-high-demand-it-field-trocaire-technology-virtual-info-night/
CATEGORIES:Admissions Events,Featured
ATTACH;FMTTYPE=image/jpeg:https://trocaire.edu/wp-content/uploads/2021/09/CyberDataPhoto.jpg
END:VEVENT
BEGIN:VEVENT
DTSTART;TZID=America/New_York:20210321T000000
DTEND;TZID=America/New_York:20210321T235900
DTSTAMP:20260419T110623
CREATED:20210127T221400Z
LAST-MODIFIED:20210127T221400Z
UID:10000415-1616284800-1616371140@trocaire.edu
SUMMARY:Graduation Forms Due
DESCRIPTION:Today\, March 21\, 2021 is the deadline for all SP-21/SU-21 graduates to submit their graduation form on the Graduation Information page. \n 
URL:https://trocaire.edu/event/graduation-forms-due/
CATEGORIES:Student Events
END:VEVENT
BEGIN:VEVENT
DTSTART;TZID=America/New_York:20210317T000000
DTEND;TZID=America/New_York:20210323T235900
DTSTAMP:20260419T110623
CREATED:20200309T174418Z
LAST-MODIFIED:20200309T174418Z
UID:10000416-1615939200-1616543940@trocaire.edu
SUMMARY:Midterm Week
DESCRIPTION:
URL:https://trocaire.edu/event/midterm-week-3/
CATEGORIES:Academic Calendar,Featured
END:VEVENT
BEGIN:VEVENT
DTSTART;TZID=America/New_York:20210315T000000
DTEND;TZID=America/New_York:20210320T235900
DTSTAMP:20260419T110623
CREATED:20210104T222400Z
LAST-MODIFIED:20210104T222400Z
UID:10000419-1615766400-1616284740@trocaire.edu
SUMMARY:Lucky to Be a Trocairian Week
DESCRIPTION:We are proud of our South Buffalo\, Irish\, and Mercy heritage at Trocaire College! \nStudent Life presents “Lucky to Be a Trocairian Week” this March. \nWith midterms around the corner\, our team and other offices around campus are here to share a little bit of luck with our campus community! \nMore details on programming coming soon.
URL:https://trocaire.edu/event/lucky-to-be-a-trocairian-week/
CATEGORIES:Student Events
END:VEVENT
BEGIN:VEVENT
DTSTART;TZID=America/New_York:20210303T180000
DTEND;TZID=America/New_York:20210303T190000
DTSTAMP:20260419T110623
CREATED:20201124T214450Z
LAST-MODIFIED:20201124T214450Z
UID:10000549-1614794400-1614798000@trocaire.edu
SUMMARY:Massage Therapy Virtual Info Night
DESCRIPTION:Massage Therapy Information Night – March 3\, 2021\n\nA new career in 10 months.\nTrocaire’s re-imagined Massage Therapy certificate is Western New York’s fastest\, most efficient route to completing your massage therapy education! \nOur students enjoy a dependable schedule\, with no nights and no weekends required for classroom or clinical work all leading to NYS licensure as a LMT. \nJoin us on March 3rd online for a virtual Massage Therapy Information Night from 6-7 pm. \nLearn more about the exciting career opportunities that await\, as well as the class schedule and content overview.  \n  \n  \nLogin Information for Info Session: \nJoin Zoom Meeting: https://trocaire.zoom.us/j/93760891452 \nMeeting ID: 937 6089 1452 \nRSVP for the Virtual Info Night below: \nOops! We could not locate your form.
URL:https://trocaire.edu/event/massage-therapy-virtual-information-night-march/
CATEGORIES:Admissions Events,Featured
ATTACH;FMTTYPE=image/jpeg:https://trocaire.edu/wp-content/uploads/2021/09/Massage-Photo-1.jpg
END:VEVENT
BEGIN:VEVENT
DTSTART;TZID=America/New_York:20210301T000000
DTEND;TZID=America/New_York:20210301T235900
DTSTAMP:20260419T110623
CREATED:20210104T222200Z
LAST-MODIFIED:20210104T222200Z
UID:10000550-1614556800-1614643140@trocaire.edu
SUMMARY:Women's History Month Opening Celebration
DESCRIPTION:Student Life celebrates Women’s History Month in March. Women is a critical concern of the Sisters of Mercy. \nCheck out the different programming available throughout this month! \nMore details to follow.
URL:https://trocaire.edu/event/womens-history-month-opening-celebration/
CATEGORIES:Student Events
END:VEVENT
BEGIN:VEVENT
DTSTART;TZID=America/New_York:20210224T120000
DTEND;TZID=America/New_York:20210224T130000
DTSTAMP:20260419T110623
CREATED:20210218T031900Z
LAST-MODIFIED:20210218T031900Z
UID:10000552-1614168000-1614171600@trocaire.edu
SUMMARY:Let's Talk About Black History
DESCRIPTION:Black History is more than just A Month\, It Is A Moment\n\nEach year\, we take the time to intentionally celebrate and honor the important contributions that African Americans have made for our country and this world. As we bring this month to a close we would like to take some time to acknowledge and discuss the significance and importance of Black History and also reflect on the events that have taken place here at Trocaire. \n\nPlease join members from the IDEA Committee and Student Life for an engaging and interactive discussion\, Wednesday February 24\, 2021!\n\nZoom Information:\n\nMeeting ID: 943 9008 0080\nPasscode: LetsTalk\nOne tap mobile\n+16468769923\,\,94390080080# US (New York)
URL:https://trocaire.edu/event/lets-talk-about-black-history/
CATEGORIES:Student Events
END:VEVENT
BEGIN:VEVENT
DTSTART;TZID=America/New_York:20210223T000000
DTEND;TZID=America/New_York:20210223T235900
DTSTAMP:20260419T110623
CREATED:20210212T005800Z
LAST-MODIFIED:20210212T005800Z
UID:10000554-1614038400-1614124740@trocaire.edu
SUMMARY:Black History Month Trivia - Week 4
DESCRIPTION:Black History Month Trivia \nThis is the LAST week to enter the Black History Month Trivia! \nEach week\, members of our Trocaire campus community are invited to participate in our trivia! Share your answers through the form to be entered into a raffle for a basket of goods from local Black-owned businesses. Raffle winner will be announced on Monday\, March 1.
URL:https://trocaire.edu/event/black-history-month-trivia-week-4/
CATEGORIES:Student Events
END:VEVENT
BEGIN:VEVENT
DTSTART;TZID=America/New_York:20210218T120000
DTEND;TZID=America/New_York:20210218T130000
DTSTAMP:20260419T110623
CREATED:20210211T230900Z
LAST-MODIFIED:20210211T230900Z
UID:10000555-1613649600-1613653200@trocaire.edu
SUMMARY:Lunch & Learn: How a Sedentary Lifestyle Affects Your Biological Age
DESCRIPTION:Join our partners at Independent Health to learn about what happens to our bodies when we sit more than we move\, as well as some simple tips to keep yourself moving during your busy day! \nFebruary 18\, 2021 | 12:00pm | Zoom: https://tinyurl.com/WellnessTrocaire \nSponsored by the Wellness Committee
URL:https://trocaire.edu/event/lunch-learn-how-a-sedentary-lifestyle-affects-your-biological-age/
CATEGORIES:General Events
END:VEVENT
BEGIN:VEVENT
DTSTART;TZID=America/New_York:20210216T000000
DTEND;TZID=America/New_York:20210216T235900
DTSTAMP:20260419T110623
CREATED:20210212T005800Z
LAST-MODIFIED:20210212T005800Z
UID:10000569-1613433600-1613519940@trocaire.edu
SUMMARY:Black History Month Trivia - Week 3
DESCRIPTION:Black History Month Trivia \nEach week\, members of our Trocaire campus community are invited to participate in our trivia! Share your answers through the form to be entered into a raffle for a basket of goods from local Black-owned businesses. Raffle winner will be announced on Monday\, March 1.
URL:https://trocaire.edu/event/black-history-month-trivia-week-3/
CATEGORIES:Student Events
END:VEVENT
BEGIN:VEVENT
DTSTART;TZID=America/New_York:20210216T000000
DTEND;TZID=America/New_York:20210216T235900
DTSTAMP:20260419T110623
CREATED:20210127T223100Z
LAST-MODIFIED:20210127T223100Z
UID:10000558-1613433600-1613519940@trocaire.edu
SUMMARY:Mardi Gras Celebration
DESCRIPTION:Let The Good Times Roll! \nJoin Student Life as we celebrate Mardi Gras virtually. We will be sharing our favorite recipes to indulge in as well as sharing information on safe consumption practices. Learn more about the history and celebration of Mardi Gras – and how we can celebrate it today with COVID. \nMardi Gras trivia will load live on the Student Activities page at midnight and run until 11:59 PM!
URL:https://trocaire.edu/event/mardi-gras-celebration/
CATEGORIES:Student Events
END:VEVENT
BEGIN:VEVENT
DTSTART;TZID=America/New_York:20210215T130000
DTEND;TZID=America/New_York:20210215T140000
DTSTAMP:20260419T110623
CREATED:20210130T012646Z
LAST-MODIFIED:20210130T012646Z
UID:10000422-1613394000-1613397600@trocaire.edu
SUMMARY:High School to Healthcare Virtual Info Session
DESCRIPTION:Join Trocaire College Admissions for our Virtual Info Session: \nHigh School to Healthcare\n \n  \n  \n  \n  \n  \n  \n  \n  \n  \n  \n  \nHigh school students interested in a career in healthcare –  join us to learn about the many options available at Trocaire College! Our certificate\, associate and bachelor degree programs will help you on the path to an exciting career in  the healthcare field. Learn about career opportunities\, available scholarships and our student success stories.\n High School Students\nFebruary 15 | 1 -2 pm \nJoin Zoom link: https://trocaire.zoom.us/j/95245195516 \nMeeting ID: 952 4519 5516 \nHealthcare Programs at Trocaire College \n\n\n\n\n\nDiagnostic Medical Sonography\nEchocardiography\nHealthcare Informatics\nMassage Therapy\n\n\n\n\nMedical Assistant\nNursing (LPN\, RN\, BSN)\nRadiologic Technology\nSurgical Technology\n\n\n\n\n\nRegister Today! \nOops! We could not locate your form.
URL:https://trocaire.edu/event/healthcare-info-session-for-high-school-students/
CATEGORIES:Admissions Events
ATTACH;FMTTYPE=image/png:https://trocaire.edu/wp-content/uploads/2021/09/High-School-to-Healthcare.png
END:VEVENT
BEGIN:VEVENT
DTSTART;TZID=America/New_York:20210215T000000
DTEND;TZID=America/New_York:20210220T235900
DTSTAMP:20260419T110623
CREATED:20210104T221800Z
LAST-MODIFIED:20210104T221800Z
UID:10000423-1613347200-1613865540@trocaire.edu
SUMMARY:Random Acts of Kindness Week
DESCRIPTION:Student Life brings you Random Acts of Kindness Week. We are proud of our Trocairians and their kindness – in the classroom\, remote learning\, clinical\, workplace\, and in their lives. \nJoin us as we participate in Random Acts of Kindness or “RAK” Week at Trocaire!
URL:https://trocaire.edu/event/random-acts-of-kindness-week/
CATEGORIES:Student Events
END:VEVENT
BEGIN:VEVENT
DTSTART;TZID=America/New_York:20210211T180000
DTEND;TZID=America/New_York:20210211T200000
DTSTAMP:20260419T110623
CREATED:20210204T015100Z
LAST-MODIFIED:20210204T015100Z
UID:10000424-1613066400-1613073600@trocaire.edu
SUMMARY:Progressing and Professionalism in the Nursing Field
DESCRIPTION:The Infinity Club\, The Office of Student Engagement\, and The Pathways to Nursing Success Program have brought together a panel of leading nurses in the field. These nurses are current members of the local Buffalo chapter of Black Nurses Rock. \nDuring this interactive panel\, they are going to discuss their passion for being a nurse\, their motivation for doing work in the community\, and their involvement in Black Nurses Rock. The panel consists of nurses from varying levels of the profession from\, LPN to ANP-BC. \nIf you are looking for ways to take your career to the next level or find out ways to get more involved in the nursing profession\, then you do not want to miss this event. \nWhen: Thursday\, February 11 \nTime: 6 PM – 8 PM \nLocation: Zoom | Meeting ID: 833 63 0174 | Passcode: Pathways \n  \nThis event is part of our Black History Month Celebration at Trocaire College. Participants are able to count this opportunity as part of their supplemental participation section of the Cultural Competency Certificate Program (C3).
URL:https://trocaire.edu/event/progressing-and-professionalism-in-the-nursing-field/
CATEGORIES:Student Events
ATTACH;FMTTYPE=image/jpeg:https://trocaire.edu/wp-content/uploads/2021/09/BHM-panels-2.jpg
END:VEVENT
BEGIN:VEVENT
DTSTART;TZID=America/New_York:20210204T110000
DTEND;TZID=America/New_York:20210204T120000
DTSTAMP:20260419T110623
CREATED:20210127T223100Z
LAST-MODIFIED:20210127T223100Z
UID:10000425-1612436400-1612440000@trocaire.edu
SUMMARY:Wellness Committee Meeting
DESCRIPTION:All students and employees are welcome to join the Wellness Committee for their first meeting this semester! \nWhen: Thursday\, February 4 at 11 AM on Zoom \nJoin the Zoom below: \nhttps://tinyurl.com/WellnessAtTrocaire
URL:https://trocaire.edu/event/wellness-committee-meeting/
CATEGORIES:Student Events
END:VEVENT
BEGIN:VEVENT
DTSTART;TZID=America/New_York:20210201T000000
DTEND;TZID=America/New_York:20210201T235900
DTSTAMP:20260419T110623
CREATED:20210104T221700Z
LAST-MODIFIED:20210104T221700Z
UID:10000427-1612137600-1612223940@trocaire.edu
SUMMARY:Black History Month Opening Celebration
DESCRIPTION:Save the date as we celebrate the opening of our Black History Month programming at Trocaire College! \nMore details to follow.
URL:https://trocaire.edu/event/black-history-month-opening-celebration/
CATEGORIES:Student Events
END:VEVENT
BEGIN:VEVENT
DTSTART;TZID=America/New_York:20210201T000000
DTEND;TZID=America/New_York:20210201T235900
DTSTAMP:20260419T110623
CREATED:20200309T174311Z
LAST-MODIFIED:20200309T174311Z
UID:10000426-1612137600-1612223940@trocaire.edu
SUMMARY:Last Day to Drop/Add
DESCRIPTION:
URL:https://trocaire.edu/event/last-day-to-drop-add-6/
CATEGORIES:Academic Calendar
END:VEVENT
END:VCALENDAR